BEGIN:VCALENDAR
VERSION:2.0
PRODID:icalendar-ruby
CALSCALE:GREGORIAN
METHOD:PUBLISH
BEGIN:VEVENT
DTSTAMP:20260423T123436Z
UID:5-403779@woodlandchristiancenter.org
DTSTART:20261025T170000Z
DTEND:20261025T180000Z
CLASS:PUBLIC
CREATED:20260423T044721
DESCRIPTION:Sunday Worship
LAST-MODIFIED:20260423T044721
LOCATION:
SUMMARY:Sunday Worship
URL;VALUE=URI:https://www.woodlandchristiancenter.org/events/sunday-worship
 /2026-10-25
END:VEVENT
END:VCALENDAR
