BEGIN:VCALENDAR
VERSION:2.0
PRODID:icalendar-ruby
CALSCALE:GREGORIAN
METHOD:PUBLISH
BEGIN:VEVENT
DTSTAMP:20260421T133429Z
UID:5-400639@woodlandchristiancenter.org
DTSTART:20260830T170000Z
DTEND:20260830T180000Z
CLASS:PUBLIC
CREATED:20260421T043538
DESCRIPTION:Sunday Worship
LAST-MODIFIED:20260421T043538
LOCATION:
SUMMARY:Sunday Worship
URL;VALUE=URI:https://www.woodlandchristiancenter.org/events/sunday-worship
 /2026-08-30
END:VEVENT
END:VCALENDAR
