BEGIN:VCALENDAR
VERSION:2.0
PRODID:icalendar-ruby
CALSCALE:GREGORIAN
METHOD:PUBLISH
BEGIN:VEVENT
DTSTAMP:20260421T093355Z
UID:5-400375@woodlandchristiancenter.org
DTSTART:20260809T170000Z
DTEND:20260809T180000Z
CLASS:PUBLIC
CREATED:20260420T172911
DESCRIPTION:Sunday Worship
LAST-MODIFIED:20260420T172911
LOCATION:
SUMMARY:Sunday Worship
URL;VALUE=URI:https://www.woodlandchristiancenter.org/events/sunday-worship
 /2026-08-09
END:VEVENT
END:VCALENDAR
